OziExplorer Map Data File Version 2.2
Barsuk_200.jpg
C:\OziExplorer\Maps\Turizm_samara\barsuk_200.jpg
1 ,Map Code,
WGS 84,WGS 84, 0.0000, 0.0000,WGS 84
Reserved 1
Reserved 2
Magnetic Variation,,,E
Map Projection,Latitude/Longitude,PolyCal,No,AutoCalOnly,No,BSBUseWPX,No
Point01,xy, 764, 1907,in, deg, 53, 18.4190,N, 50, 12.5810,E, grid, , , ,N
Point02,xy, 298, 1981,in, deg, 53, 18.4086,N, 50, 11.7786,E, grid, , , ,N
Point03,xy, 1360, 1169,in, deg, 53, 19.0720,N, 50, 13.7860,E, grid, , , ,N
Point04,xy, 338, 1143,in, deg, 53, 19.2540,N, 50, 12.0530,E, grid, , , ,N
Point05,xy, 550, 25,in, deg, 53, 20.3280,N, 50, 12.7420,E, grid, , , ,N
Point06,xy, 1166, 100,in, deg, 53, 20.1780,N, 50, 13.7610,E, grid, , , ,N
Point07,xy, 1233, 617,in, deg, 53, 19.6460,N, 50, 13.7300,E, grid, , , ,N
Point08,xy, 180, 971,ex, deg, 53, 19.4430,N, 50, 11.8470,E, grid, , , ,N
Point09,xy, 402, 1026,in, deg, 53, 19.3680,N, 50, 12.1850,E, grid, , , ,N
Point10,xy, , ,in, deg, , ,N, , ,W, grid, , , ,N
Point11,xy, , ,in, deg, , ,N, , ,W, grid, , , ,N
Point12,xy, , ,in, deg, , ,N, , ,W, grid, , , ,N
Point13,xy, , ,in, deg, , ,N, , ,W, grid, , , ,N
Point14,xy, , ,in, deg, , ,N, , ,W, grid, , , ,N
Point15,xy, , ,in, deg, , ,N, , ,W, grid, , , ,N
Point16,xy, , ,in, deg, , ,N, , ,W, grid, , , ,N
Point17,xy, , ,in, deg, , ,N, , ,W, grid, , , ,N
Point18,xy, , ,in, deg, , ,N, , ,W, grid, , , ,N
Point19,xy, , ,in, deg, , ,N, , ,W, grid, , , ,N
Point20,xy, , ,in, deg, , ,N, , ,W, grid, , , ,N
Point21,xy, , ,in, deg, , ,N, , ,W, grid, , , ,N
Point22,xy, , ,in, deg, , ,N, , ,W, grid, , , ,N
Point23,xy, , ,in, deg, , ,N, , ,W, grid, , , ,N
Point24,xy, , ,in, deg, , ,N, , ,W, grid, , , ,N
Point25,xy, , ,in, deg, , ,N, , ,W, grid, , , ,N
Point26,xy, , ,in, deg, , ,N, , ,W, grid, , , ,N
Point27,xy, , ,in, deg, , ,N, , ,W, grid, , , ,N
Point28,xy, , ,in, deg, , ,N, , ,W, grid, , , ,N
Point29,xy, , ,in, deg, , ,N, , ,W, grid, , , ,N
Point30,xy, , ,in, deg, , ,N, , ,W, grid, , , ,N
Projection Setup, 0.000000000, -120.000000000, 0.999600000, 0.00, -4000000.00, 34.000000000, 40.500000000,,,
Map Feature = MF ; Map Comment = MC These follow if they exist
Track File = TF These follow if they exist
Moving Map Parameters = MM? These follow if they exist
MM0,Yes
MMPNUM,4
MMPXY,1,0,0
MMPXY,2,1593,0
MMPXY,3,1593,2157
MMPXY,4,0,2157
MMPLL,1, 50.196702, 53.340748
MMPLL,2, 50.241844, 53.336859
MMPLL,3, 50.231960, 53.300809
MMPLL,4, 50.186819, 53.304697
MM1B,1.884607
MOP,Map Open Position,0,0
IWH,Map Image Width/Height,1593,2157
